BEGIN:VCALENDAR
VERSION:2.0
PRODID:icalendar-ruby
CALSCALE:GREGORIAN
METHOD:PUBLISH
BEGIN:VEVENT
DTSTAMP:20260424T160605Z
UID:3-1236886@slc-atlanta.org
DTSTART:20261025T190000Z
DTEND:20261025T200000Z
CLASS:PUBLIC
CREATED:20260424T110844
DESCRIPTION:Join us on Sunday afternoons at 3pm for an engaging inspiration
 al service with music\, meditation and a powerful message.\nEach week our 
 service is followed by dinner hour in the social hall from 4-5pm and \nro
 tating workshops during our educational hour from 5-6pm
LAST-MODIFIED:20260424T110844
LOCATION:2650 N. Druid Hills Rd. 
SUMMARY:The Sunday Experience
URL;VALUE=URI:https://www.slc-atlanta.org/events/the-sunday-experience/2026
 -10-25
ATTACH;FILENAME=Copy-of-Pro-Presenter-Slides%283%29.png;FMTTYPE=image/png:h
 ttps://dq5pwpg1q8ru0.cloudfront.net/2025/12/01/23/19/02/85bc7090-5710-4ac1
 -b87f-7f14579641a1/Copy-of-Pro-Presenter-Slides%25283%2529.png
END:VEVENT
END:VCALENDAR
